BEGIN:VCALENDAR
PRODID:-//Kiinteistömaailma//www.kiinteistomaailma.fi//FI
VERSION:2.0
BEGIN:VTIMEZONE
TZID:Europe/Helsinki
TZURL:http://tzurl.org/zoneinfo-outlook/Europe/Helsinki
X-LIC-LOCATION:Europe/Helsinki
BEGIN:DAYLIGHT
TZOFFSETFROM:+0200
TZOFFSETTO:+0300
TZNAME:EEST
DTSTART:19700329T030000
RRULE:FREQ=YEARLY;BYMONTH=3;BYDAY=-1SU
END:DAYLIGHT
BEGIN:STANDARD
TZOFFSETFROM:+0300
TZOFFSETTO:+0200
TZNAME:EET
DTSTART:19701025T040000
RRULE:FREQ=YEARLY;BYMONTH=10;BYDAY=-1SU
END:STANDARD
END:VTIMEZONE
BEGIN:VEVENT
UID:E1-42384846@www.kiinteistomaailma.fi
LOCATION;VVENUE=V42384846@www.kiinteistomaailma.fi:Sudentie 3, 96500 Rovaniemi
DTSTAMP:20260423T175937Z
DTSTART;TZID=Europe/Helsinki:20260428T163000
SUMMARY:Asuntoesittely
DTEND;TZID=Europe/Helsinki:20260428T170000
DESCRIPTION:Asuntoesittely: Sudentie 3, KT, 3h, k, kph, s, las.p
END:VEVENT
END:VCALENDAR
