BEGIN:VCALENDAR
PRODID:-//Kiinteistömaailma//www.kiinteistomaailma.fi//FI
VERSION:2.0
BEGIN:VTIMEZONE
TZID:Europe/Helsinki
TZURL:http://tzurl.org/zoneinfo-outlook/Europe/Helsinki
X-LIC-LOCATION:Europe/Helsinki
BEGIN:DAYLIGHT
TZOFFSETFROM:+0200
TZOFFSETTO:+0300
TZNAME:EEST
DTSTART:19700329T030000
RRULE:FREQ=YEARLY;BYMONTH=3;BYDAY=-1SU
END:DAYLIGHT
BEGIN:STANDARD
TZOFFSETFROM:+0300
TZOFFSETTO:+0200
TZNAME:EET
DTSTART:19701025T040000
RRULE:FREQ=YEARLY;BYMONTH=10;BYDAY=-1SU
END:STANDARD
END:VTIMEZONE
BEGIN:VEVENT
UID:E1-41982036@www.kiinteistomaailma.fi
LOCATION;VVENUE=V41982036@www.kiinteistomaailma.fi:Adlercreutzinkatu 43, 06100 Porvoo
DTSTAMP:20260422T122905Z
DTSTART;TZID=Europe/Helsinki:20260425T134500
SUMMARY:Asuntoesittely
DTEND;TZID=Europe/Helsinki:20260425T141500
DESCRIPTION:Asuntoesittely: Adlercreutzinkatu 43, KT, 2 h, k, ph, s, wc, lasit. parv. 
END:VEVENT
END:VCALENDAR
