BEGIN:VCALENDAR
PRODID:-//Kiinteistömaailma//www.kiinteistomaailma.fi//FI
VERSION:2.0
BEGIN:VTIMEZONE
TZID:Europe/Helsinki
TZURL:http://tzurl.org/zoneinfo-outlook/Europe/Helsinki
X-LIC-LOCATION:Europe/Helsinki
BEGIN:DAYLIGHT
TZOFFSETFROM:+0200
TZOFFSETTO:+0300
TZNAME:EEST
DTSTART:19700329T030000
RRULE:FREQ=YEARLY;BYMONTH=3;BYDAY=-1SU
END:DAYLIGHT
BEGIN:STANDARD
TZOFFSETFROM:+0300
TZOFFSETTO:+0200
TZNAME:EET
DTSTART:19701025T040000
RRULE:FREQ=YEARLY;BYMONTH=10;BYDAY=-1SU
END:STANDARD
END:VTIMEZONE
BEGIN:VEVENT
UID:E1-1413142@www.kiinteistomaailma.fi
LOCATION;VVENUE=V1413142@www.kiinteistomaailma.fi:Hirsikalliontie 24, 02710 Espoo
DTSTAMP:20260419T154722Z
DTSTART;TZID=Europe/Helsinki:20260422T180000
SUMMARY:Asuntoesittely
DTEND;TZID=Europe/Helsinki:20260422T184500
DESCRIPTION:Asuntoesittely: Hirsikalliontie 24, ET, (174m2) oh/rt/avokeittiö, 3mh, takkah, askartelutila, saunaosasto, kph, vh, khh, 3wc, terassiparveke, 2 terassia
END:VEVENT
END:VCALENDAR
